BEGIN:VCALENDAR
VERSION:2.0
PRODID:-//東京恵比寿ロータリークラブ - ECPv5.9.2//NONSGML v1.0//EN
CALSCALE:GREGORIAN
METHOD:PUBLISH
X-WR-CALNAME:東京恵比寿ロータリークラブ
X-ORIGINAL-URL:http://ebisurc.org
X-WR-CALDESC:東京恵比寿ロータリークラブ のイベント
BEGIN:VTIMEZONE
TZID:Asia/Tokyo
BEGIN:STANDARD
TZOFFSETFROM:+0900
TZOFFSETTO:+0900
TZNAME:JST
DTSTART:20190101T000000
END:STANDARD
END:VTIMEZONE
BEGIN:VEVENT
DTSTART;TZID=Asia/Tokyo:20191030T120000
DTEND;TZID=Asia/Tokyo:20191030T140000
DTSTAMP:20260425T101831
CREATED:20190814T091943Z
LAST-MODIFIED:20190911T091617Z
UID:982-1572436800-1572444000@ebisurc.org
SUMMARY:11クラブ合同例会　第1081回例会
DESCRIPTION:
URL:http://ebisurc.org/schedule/11%e3%82%af%e3%83%a9%e3%83%96%e5%90%88%e5%90%8c%e4%be%8b%e4%bc%9a%e3%80%80%e7%ac%ac1081%e5%9b%9e%e4%be%8b%e4%bc%9a/
LOCATION:移動例会
END:VEVENT
END:VCALENDAR