BEGIN:VCALENDAR
VERSION:2.0
PRODID:-//東京恵比寿ロータリークラブ - ECPv5.9.2//NONSGML v1.0//EN
CALSCALE:GREGORIAN
METHOD:PUBLISH
X-WR-CALNAME:東京恵比寿ロータリークラブ
X-ORIGINAL-URL:http://ebisurc.org
X-WR-CALDESC:東京恵比寿ロータリークラブ のイベント
BEGIN:VTIMEZONE
TZID:Asia/Tokyo
BEGIN:STANDARD
TZOFFSETFROM:+0900
TZOFFSETTO:+0900
TZNAME:JST
DTSTART:20260101T000000
END:STANDARD
END:VTIMEZONE
BEGIN:VEVENT
DTSTART;TZID=Asia/Tokyo:20260207T130000
DTEND;TZID=Asia/Tokyo:20260207T130000
DTSTAMP:20260423T002644
CREATED:20251226T085348Z
LAST-MODIFIED:20260202T075708Z
UID:31096-1770469200-1770469200@ebisurc.org
SUMMARY:第1332回例会
DESCRIPTION:
URL:http://ebisurc.org/schedule/%e7%ac%ac1332%e5%9b%9e%e4%be%8b%e4%bc%9a/
LOCATION:立川ステージガーデン\, 東京都立川市緑町3-3 N1
CATEGORIES:例会
END:VEVENT
END:VCALENDAR