BEGIN:VCALENDAR
VERSION:2.0
PRODID:-//東京恵比寿ロータリークラブ - ECPv5.9.2//NONSGML v1.0//EN
CALSCALE:GREGORIAN
METHOD:PUBLISH
X-WR-CALNAME:東京恵比寿ロータリークラブ
X-ORIGINAL-URL:http://ebisurc.org
X-WR-CALDESC:東京恵比寿ロータリークラブ のイベント
BEGIN:VTIMEZONE
TZID:Asia/Tokyo
BEGIN:STANDARD
TZOFFSETFROM:+0900
TZOFFSETTO:+0900
TZNAME:JST
DTSTART:20250101T000000
END:STANDARD
END:VTIMEZONE
BEGIN:VEVENT
DTSTART;TZID=Asia/Tokyo:20250909T123000
DTEND;TZID=Asia/Tokyo:20250909T133000
DTSTAMP:20260423T075027
CREATED:20250725T101222Z
LAST-MODIFIED:20250826T034741Z
UID:30198-1757421000-1757424600@ebisurc.org
SUMMARY:第1317回例会
DESCRIPTION:久保 弘憲 ガバナー補佐訪問 \n・国際ロータリー第2750地区　山の手東ガバナー補佐 \n・テーマ：「ロータリーの今」
URL:http://ebisurc.org/schedule/%e7%ac%ac1317%e5%9b%9e%e4%be%8b%e4%bc%9a/
CATEGORIES:例会
END:VEVENT
END:VCALENDAR