BEGIN:VCALENDAR
VERSION:2.0
PRODID:-//東京恵比寿ロータリークラブ - ECPv5.9.2//NONSGML v1.0//EN
CALSCALE:GREGORIAN
METHOD:PUBLISH
X-WR-CALNAME:東京恵比寿ロータリークラブ
X-ORIGINAL-URL:http://ebisurc.org
X-WR-CALDESC:東京恵比寿ロータリークラブ のイベント
BEGIN:VTIMEZONE
TZID:Asia/Tokyo
BEGIN:STANDARD
TZOFFSETFROM:+0900
TZOFFSETTO:+0900
TZNAME:JST
DTSTART:20240101T000000
END:STANDARD
END:VTIMEZONE
BEGIN:VEVENT
DTSTART;TZID=Asia/Tokyo:20241203T123000
DTEND;TZID=Asia/Tokyo:20241203T133000
DTSTAMP:20260423T205653
CREATED:20240508T082229Z
LAST-MODIFIED:20241113T032220Z
UID:25059-1733229000-1733232600@ebisurc.org
SUMMARY:第1286回例会
DESCRIPTION:福本 ヒデ 様 \n・ザ・ニュースペーパー \n・テーマ：「社会風刺コント「ザ・ニュースペーパー番外編」」
URL:http://ebisurc.org/schedule/%e7%ac%ac1286%e5%9b%9e%e4%be%8b%e4%bc%9a/
LOCATION:目黒雅叙園 オリオンの間（ホテル雅叙園東京）\, 下目黒1-8-1\, 目黒区\, 東京都\, 1530064\, 日本
CATEGORIES:例会
ORGANIZER;CN="%E6%9D%B1%E4%BA%AC%E6%81%B5%E6%AF%94%E5%AF%BF%E3%83%AD%E3%83%BC%E3%82%BF%E3%83%AA%E3%83%BC%E3%82%AF%E3%83%A9%E3%83%96%E4%BA%8B%E5%8B%99%E5%B1%80":MAILTO:office@ebisurc.org
END:VEVENT
END:VCALENDAR