BEGIN:VCALENDAR
VERSION:2.0
PRODID:-//東京恵比寿ロータリークラブ - ECPv5.9.2//NONSGML v1.0//EN
CALSCALE:GREGORIAN
METHOD:PUBLISH
X-WR-CALNAME:東京恵比寿ロータリークラブ
X-ORIGINAL-URL:http://ebisurc.org
X-WR-CALDESC:東京恵比寿ロータリークラブ のイベント
BEGIN:VTIMEZONE
TZID:Asia/Tokyo
BEGIN:STANDARD
TZOFFSETFROM:+0900
TZOFFSETTO:+0900
TZNAME:JST
DTSTART:20240101T000000
END:STANDARD
END:VTIMEZONE
BEGIN:VEVENT
DTSTART;TZID=Asia/Tokyo:20240423T113000
DTEND;TZID=Asia/Tokyo:20240423T133000
DTSTAMP:20260424T082622
CREATED:20230605T032055Z
LAST-MODIFIED:20240422T024355Z
UID:20296-1713871800-1713879000@ebisurc.org
SUMMARY:第1261回例会
DESCRIPTION:山の手東グループ合同例会 \n受付開始　10時30分\n開会点鐘　11時30分\n閉会点鐘　13時30分予定 \n卓話\n古田 敦也 様 \n・野球評論家 \n・テーマ：「目標に向け行動しよう！ 古田流 かっこいい大人の行動哲学 プロとしての生き方とチャレンジ」
URL:http://ebisurc.org/schedule/%e7%ac%ac1261%e5%9b%9e%e4%be%8b%e4%bc%9a/
LOCATION:ホテルニューオータニ\, 紀尾井町4‐1\, 千代田区\, 東京都\, 102-8578\, 日本
CATEGORIES:例会
ORGANIZER;CN="%E6%9D%B1%E4%BA%AC%E6%81%B5%E6%AF%94%E5%AF%BF%E3%83%AD%E3%83%BC%E3%82%BF%E3%83%AA%E3%83%BC%E3%82%AF%E3%83%A9%E3%83%96%E4%BA%8B%E5%8B%99%E5%B1%80":MAILTO:office@ebisurc.org
END:VEVENT
END:VCALENDAR