BEGIN:VCALENDAR
VERSION:2.0
PRODID:-//東京恵比寿ロータリークラブ - ECPv5.9.2//NONSGML v1.0//EN
CALSCALE:GREGORIAN
METHOD:PUBLISH
X-WR-CALNAME:東京恵比寿ロータリークラブ
X-ORIGINAL-URL:http://ebisurc.org
X-WR-CALDESC:東京恵比寿ロータリークラブ のイベント
BEGIN:VTIMEZONE
TZID:Asia/Tokyo
BEGIN:STANDARD
TZOFFSETFROM:+0900
TZOFFSETTO:+0900
TZNAME:JST
DTSTART:20230101T000000
END:STANDARD
END:VTIMEZONE
BEGIN:VEVENT
DTSTART;TZID=Asia/Tokyo:20230822T123000
DTEND;TZID=Asia/Tokyo:20230822T133000
DTSTAMP:20260424T200958
CREATED:20230605T023810Z
LAST-MODIFIED:20230809T082636Z
UID:20220-1692707400-1692711000@ebisurc.org
SUMMARY:第1233回例会
DESCRIPTION:宮下 忠芳 会員 \n・テーマ：「五感脳に学ぶ美と健康」
URL:http://ebisurc.org/schedule/%e7%ac%ac1233%e5%9b%9e%e4%be%8b%e4%bc%9a/
LOCATION:恵比寿アトレ西館シロノニワ\, 恵比寿南 1-6-1 アトレ恵比寿西館8F\, 渋谷区\, 東京都\, 1500022\, 日本
CATEGORIES:例会
ORGANIZER;CN="%E6%9D%B1%E4%BA%AC%E6%81%B5%E6%AF%94%E5%AF%BF%E3%83%AD%E3%83%BC%E3%82%BF%E3%83%AA%E3%83%BC%E3%82%AF%E3%83%A9%E3%83%96%E4%BA%8B%E5%8B%99%E5%B1%80":MAILTO:office@ebisurc.org
END:VEVENT
END:VCALENDAR