BEGIN:VCALENDAR
VERSION:2.0
PRODID:-//東京恵比寿ロータリークラブ - ECPv5.9.2//NONSGML v1.0//EN
CALSCALE:GREGORIAN
METHOD:PUBLISH
X-WR-CALNAME:東京恵比寿ロータリークラブ
X-ORIGINAL-URL:http://ebisurc.org
X-WR-CALDESC:東京恵比寿ロータリークラブ のイベント
BEGIN:VTIMEZONE
TZID:Asia/Tokyo
BEGIN:STANDARD
TZOFFSETFROM:+0900
TZOFFSETTO:+0900
TZNAME:JST
DTSTART:20230101T000000
END:STANDARD
END:VTIMEZONE
BEGIN:VEVENT
DTSTART;TZID=Asia/Tokyo:20230620T123000
DTEND;TZID=Asia/Tokyo:20230620T133000
DTSTAMP:20260424T231943
CREATED:20220518T074035Z
LAST-MODIFIED:20230612T030009Z
UID:8887-1687264200-1687267800@ebisurc.org
SUMMARY:第1226回例会
DESCRIPTION:秋山弘子 様 \n・老年学\n・未来ビジョン研究センター 客員教授\n・東京大学名誉教授\n・高齢社会総合研究機構客員教授 \n・テーマ：「長寿社会に生きる」
URL:http://ebisurc.org/schedule/%e7%ac%ac1226%e5%9b%9e%e4%be%8b%e4%bc%9a/
LOCATION:ウェスティンホテル東京 宴会場\, 三田1-4-1\, 目黒区\, 東京都\, Japan
CATEGORIES:例会
ORGANIZER;CN="%E6%9D%B1%E4%BA%AC%E6%81%B5%E6%AF%94%E5%AF%BF%E3%83%AD%E3%83%BC%E3%82%BF%E3%83%AA%E3%83%BC%E3%82%AF%E3%83%A9%E3%83%96%E4%BA%8B%E5%8B%99%E5%B1%80":MAILTO:office@ebisurc.org
END:VEVENT
END:VCALENDAR