BEGIN:VCALENDAR
VERSION:2.0
PRODID:-//東京恵比寿ロータリークラブ - ECPv5.9.2//NONSGML v1.0//EN
CALSCALE:GREGORIAN
METHOD:PUBLISH
X-WR-CALNAME:東京恵比寿ロータリークラブ
X-ORIGINAL-URL:http://ebisurc.org
X-WR-CALDESC:東京恵比寿ロータリークラブ のイベント
BEGIN:VTIMEZONE
TZID:Asia/Tokyo
BEGIN:STANDARD
TZOFFSETFROM:+0900
TZOFFSETTO:+0900
TZNAME:JST
DTSTART:20190101T000000
END:STANDARD
END:VTIMEZONE
BEGIN:VEVENT
DTSTART;TZID=Asia/Tokyo:20191105T123000
DTEND;TZID=Asia/Tokyo:20191105T133000
DTSTAMP:20260425T065908
CREATED:20190822T074931Z
LAST-MODIFIED:20191015T123915Z
UID:987-1572957000-1572960600@ebisurc.org
SUMMARY:第1082回例会
DESCRIPTION:
URL:http://ebisurc.org/schedule/%e7%ac%ac1082%e5%9b%9e%e4%be%8b%e4%bc%9a/
LOCATION:ウェスティンホテル東京 宴会場\, 三田1-4-1\, 目黒区\, 東京都\, Japan
CATEGORIES:例会
END:VEVENT
END:VCALENDAR