BEGIN:VCALENDAR
VERSION:2.0
PRODID:-//東京恵比寿ロータリークラブ - ECPv5.9.2//NONSGML v1.0//EN
CALSCALE:GREGORIAN
METHOD:PUBLISH
X-WR-CALNAME:東京恵比寿ロータリークラブ
X-ORIGINAL-URL:http://ebisurc.org
X-WR-CALDESC:東京恵比寿ロータリークラブ のイベント
BEGIN:VTIMEZONE
TZID:Asia/Tokyo
BEGIN:STANDARD
TZOFFSETFROM:+0900
TZOFFSETTO:+0900
TZNAME:JST
DTSTART:20200101T000000
END:STANDARD
END:VTIMEZONE
BEGIN:VEVENT
DTSTART;TZID=Asia/Tokyo:20200630T003000
DTEND;TZID=Asia/Tokyo:20200630T133000
DTSTAMP:20260424T161903
CREATED:20200215T060102Z
LAST-MODIFIED:20200611T080222Z
UID:1095-1593477000-1593523800@ebisurc.org
SUMMARY:第１１０６回例会
DESCRIPTION:
URL:http://ebisurc.org/schedule/%e7%ac%ac%ef%bc%91%ef%bc%91%ef%bc%90%ef%bc%96%e5%9b%9e%e4%be%8b%e4%bc%9a/
LOCATION:ウェスティンホテル東京 宴会場\, 三田1-4-1\, 目黒区\, 東京都\, Japan
END:VEVENT
END:VCALENDAR