BEGIN:VCALENDAR
VERSION:2.0
PRODID:-//東京恵比寿ロータリークラブ - ECPv5.9.2//NONSGML v1.0//EN
CALSCALE:GREGORIAN
METHOD:PUBLISH
X-WR-CALNAME:東京恵比寿ロータリークラブ
X-ORIGINAL-URL:http://ebisurc.org
X-WR-CALDESC:東京恵比寿ロータリークラブ のイベント
BEGIN:VTIMEZONE
TZID:Asia/Tokyo
BEGIN:STANDARD
TZOFFSETFROM:+0900
TZOFFSETTO:+0900
TZNAME:JST
DTSTART:20200101T000000
END:STANDARD
END:VTIMEZONE
BEGIN:VEVENT
DTSTART;TZID=Asia/Tokyo:20200623T123000
DTEND;TZID=Asia/Tokyo:20200623T133000
DTSTAMP:20260424T144318
CREATED:20200513T072448Z
LAST-MODIFIED:20200611T080132Z
UID:1118-1592915400-1592919000@ebisurc.org
SUMMARY:第１１０６回例会
DESCRIPTION:
URL:http://ebisurc.org/schedule/%e7%ac%ac%ef%bc%91%ef%bc%91%ef%bc%90%ef%bc%96%e5%9b%9e%e4%be%8b%e4%bc%9a-2/
LOCATION:目黒雅叙園（ホテル雅叙園東京）\, 下目黒1-8-1\, 目黒区\, 東京都\, 1530064\, Japan
END:VEVENT
END:VCALENDAR