BEGIN:VCALENDAR
VERSION:2.0
PRODID:-//東京恵比寿ロータリークラブ - ECPv5.9.2//NONSGML v1.0//EN
CALSCALE:GREGORIAN
METHOD:PUBLISH
X-WR-CALNAME:東京恵比寿ロータリークラブ
X-ORIGINAL-URL:http://ebisurc.org
X-WR-CALDESC:東京恵比寿ロータリークラブ のイベント
BEGIN:VTIMEZONE
TZID:Asia/Tokyo
BEGIN:STANDARD
TZOFFSETFROM:+0900
TZOFFSETTO:+0900
TZNAME:JST
DTSTART:20200101T000000
END:STANDARD
END:VTIMEZONE
BEGIN:VEVENT
DTSTART;TZID=Asia/Tokyo:20200330T183000
DTEND;TZID=Asia/Tokyo:20200330T203000
DTSTAMP:20260424T001307
CREATED:20191126T074919Z
LAST-MODIFIED:20200226T060654Z
UID:1061-1585593000-1585600200@ebisurc.org
SUMMARY:中止　第１０９７回夜間例会
DESCRIPTION:
URL:http://ebisurc.org/schedule/%e7%ac%ac%ef%bc%91%ef%bc%90%ef%bc%99%ef%bc%97%e5%9b%9e%e5%a4%9c%e9%96%93%e4%be%8b%e4%bc%9a/
LOCATION:移動例会
END:VEVENT
END:VCALENDAR