BEGIN:VCALENDAR
VERSION:2.0
PRODID:-//東京恵比寿ロータリークラブ - ECPv5.9.2//NONSGML v1.0//EN
CALSCALE:GREGORIAN
METHOD:PUBLISH
X-WR-CALNAME:東京恵比寿ロータリークラブ
X-ORIGINAL-URL:http://ebisurc.org
X-WR-CALDESC:東京恵比寿ロータリークラブ のイベント
BEGIN:VTIMEZONE
TZID:Asia/Tokyo
BEGIN:STANDARD
TZOFFSETFROM:+0900
TZOFFSETTO:+0900
TZNAME:JST
DTSTART:20200101T000000
END:STANDARD
END:VTIMEZONE
BEGIN:VEVENT
DTSTART;VALUE=DATE:20200224
DTEND;VALUE=DATE:20200226
DTSTAMP:20260424T072644
CREATED:20191126T074139Z
LAST-MODIFIED:20191126T075718Z
UID:1050-1582502400-1582675199@ebisurc.org
SUMMARY:第１０９３回例会　地区大会
DESCRIPTION:
URL:http://ebisurc.org/schedule/%e7%ac%ac%ef%bc%91%ef%bc%90%ef%bc%99%ef%bc%93%e5%9b%9e%e4%be%8b%e4%bc%9a%e3%80%80%e5%9c%b0%e5%8c%ba%e5%a4%a7%e4%bc%9a/
END:VEVENT
END:VCALENDAR