BEGIN:VCALENDAR
VERSION:2.0
PRODID:-//東京恵比寿ロータリークラブ - ECPv5.9.2//NONSGML v1.0//EN
CALSCALE:GREGORIAN
METHOD:PUBLISH
X-WR-CALNAME:東京恵比寿ロータリークラブ
X-ORIGINAL-URL:http://ebisurc.org
X-WR-CALDESC:東京恵比寿ロータリークラブ のイベント
BEGIN:VTIMEZONE
TZID:Asia/Tokyo
BEGIN:STANDARD
TZOFFSETFROM:+0900
TZOFFSETTO:+0900
TZNAME:JST
DTSTART:20240101T000000
END:STANDARD
END:VTIMEZONE
BEGIN:VEVENT
DTSTART;VALUE=DATE:20240226
DTEND;VALUE=DATE:20240228
DTSTAMP:20260424T111618
CREATED:20230605T031338Z
LAST-MODIFIED:20240124T034433Z
UID:20278-1708905600-1709078399@ebisurc.org
SUMMARY:地区大会
DESCRIPTION:会場：グランドプリンスホテル新高輪　国際館パミール
URL:http://ebisurc.org/schedule/%e5%9c%b0%e5%8c%ba%e5%a4%a7%e4%bc%9a/
LOCATION:グランドプリンスホテル新高輪\, 高輪3-13-1\, 港区\, 東京都\, 〒108-8612\, 日本
CATEGORIES:年次
END:VEVENT
END:VCALENDAR