BEGIN:VCALENDAR
VERSION:2.0
PRODID:-//東京恵比寿ロータリークラブ - ECPv5.9.2//NONSGML v1.0//EN
CALSCALE:GREGORIAN
METHOD:PUBLISH
X-WR-CALNAME:東京恵比寿ロータリークラブ
X-ORIGINAL-URL:http://ebisurc.org
X-WR-CALDESC:東京恵比寿ロータリークラブ のイベント
BEGIN:VTIMEZONE
TZID:Asia/Tokyo
BEGIN:STANDARD
TZOFFSETFROM:+0900
TZOFFSETTO:+0900
TZNAME:JST
DTSTART:20250101T000000
END:STANDARD
END:VTIMEZONE
BEGIN:VEVENT
DTSTART;VALUE=DATE:20250228
DTEND;VALUE=DATE:20250302
DTSTAMP:20260423T180521
CREATED:20240510T064948Z
LAST-MODIFIED:20250219T072032Z
UID:25105-1740700800-1740873599@ebisurc.org
SUMMARY:地区大会
DESCRIPTION:2024ー25年度\n国際ロータリー第2750地区\n地区大会 \n  \n会場：グランドプリンスホテル新高輪 国際館 パミール
URL:http://ebisurc.org/schedule/%e5%9c%b0%e5%8c%ba%e5%a4%a7%e4%bc%9a-2/
LOCATION:グランドプリンスホテル新高輪\, 高輪3-13-1\, 港区\, 東京都\, 〒108-8612\, 日本
END:VEVENT
END:VCALENDAR