BEGIN:VCALENDAR
VERSION:2.0
PRODID:-//東京恵比寿ロータリークラブ - ECPv5.9.2//NONSGML v1.0//EN
CALSCALE:GREGORIAN
METHOD:PUBLISH
X-WR-CALNAME:東京恵比寿ロータリークラブ
X-ORIGINAL-URL:http://ebisurc.org
X-WR-CALDESC:東京恵比寿ロータリークラブ のイベント
BEGIN:VTIMEZONE
TZID:Asia/Tokyo
BEGIN:STANDARD
TZOFFSETFROM:+0900
TZOFFSETTO:+0900
TZNAME:JST
DTSTART:20250101T000000
END:STANDARD
END:VTIMEZONE
BEGIN:VEVENT
DTSTART;VALUE=DATE:20251125
DTEND;VALUE=DATE:20251126
DTSTAMP:20260423T044328
CREATED:20250818T015129Z
LAST-MODIFIED:20250818T015129Z
UID:30335-1764028800-1764115199@ebisurc.org
SUMMARY:休会
DESCRIPTION:
URL:http://ebisurc.org/schedule/%e4%bc%91%e4%bc%9a-42/
ORGANIZER;CN="%E6%9D%B1%E4%BA%AC%E6%81%B5%E6%AF%94%E5%AF%BF%E3%83%AD%E3%83%BC%E3%82%BF%E3%83%AA%E3%83%BC%E3%82%AF%E3%83%A9%E3%83%96%E4%BA%8B%E5%8B%99%E5%B1%80":MAILTO:office@ebisurc.org
END:VEVENT
END:VCALENDAR