BEGIN:VCALENDAR
VERSION:2.0
PRODID:-//東京恵比寿ロータリークラブ - ECPv5.9.2//NONSGML v1.0//EN
CALSCALE:GREGORIAN
METHOD:PUBLISH
X-WR-CALNAME:東京恵比寿ロータリークラブ
X-ORIGINAL-URL:http://ebisurc.org
X-WR-CALDESC:東京恵比寿ロータリークラブ のイベント
BEGIN:VTIMEZONE
TZID:Asia/Tokyo
BEGIN:STANDARD
TZOFFSETFROM:+0900
TZOFFSETTO:+0900
TZNAME:JST
DTSTART:20200101T000000
END:STANDARD
END:VTIMEZONE
BEGIN:VEVENT
DTSTART;VALUE=DATE:20200211
DTEND;VALUE=DATE:20200212
DTSTAMP:20260424T101119
CREATED:20191126T073604Z
LAST-MODIFIED:20191126T075605Z
UID:1045-1581379200-1581465599@ebisurc.org
SUMMARY:休会（祭日）
DESCRIPTION:
URL:http://ebisurc.org/schedule/%e4%bc%91%e4%bc%9a%ef%bc%88%e7%a5%ad%e6%97%a5%ef%bc%89/
END:VEVENT
END:VCALENDAR